BEGIN:VCALENDAR
VERSION:2.0
PRODID:-//Squarespace Inc/Squarespace 6//v6//EN
BEGIN:VEVENT
UID:57d7460c893fc09c336f6509@squarespace.com
DTSTAMP:20160913T005503Z
DTSTART:20161019T230000Z
DTEND:20161022T230000Z
SUMMARY:Shylock
END:VEVENT
END:VCALENDAR
