BEGIN:VCALENDAR
VERSION:2.0
PRODID:-//Squarespace Inc/Squarespace 6//v6//EN
BEGIN:VEVENT
UID:57980d97e58c62b2f104b93f@squarespace.com
DTSTAMP:20160727T013213Z
DTSTART:20161021T013000Z
DTEND:20161027T023000Z
SUMMARY:Bill Bailey - Larks In Transit
END:VEVENT
END:VCALENDAR
