BEGIN:VCALENDAR
VERSION:2.0
PRODID:-//Squarespace Inc/Squarespace 6//v6//EN
BEGIN:VEVENT
UID:57b25a8cd482e9a0cbc47c50@squarespace.com
DTSTAMP:20160816T003636Z
DTSTART:20161027T233000Z
DTEND:20161113T003000Z
SUMMARY:Don Juan
END:VEVENT
END:VCALENDAR
