BEGIN:VCALENDAR
VERSION:2.0
PRODID:-//Squarespace Inc/Squarespace 6//v6//EN
BEGIN:VEVENT
UID:5798065d6b8f5bdfe9c17720@squarespace.com
DTSTAMP:20160727T010226Z
DTSTART:20161003T140000Z
DTEND:20161009T170000Z
SUMMARY:Hi-5 House Hits
END:VEVENT
END:VCALENDAR
