BEGIN:VCALENDAR
VERSION:2.0
PRODID:-//Squarespace Inc/Squarespace 6//v6//EN
BEGIN:VEVENT
UID:57980be71b631b681e0453d3@squarespace.com
DTSTAMP:20160727T012212Z
DTSTART:20161004T233000Z
DTEND:20161017T003000Z
SUMMARY:Tempo Dance Festival 2016
END:VEVENT
END:VCALENDAR
