BEGIN:VCALENDAR
VERSION:2.0
PRODID:-//Squarespace Inc/Squarespace 6//v6//EN
BEGIN:VEVENT
UID:57cdfb6f6a4963278c092066@squarespace.com
DTSTAMP:20160905T231347Z
DTSTART:20161007T000000Z
DTEND:20161031T020000Z
SUMMARY:Fire on the River
END:VEVENT
END:VCALENDAR
