BEGIN:VCALENDAR
VERSION:2.0
PRODID:-//Squarespace Inc/Squarespace 6//v6//EN
BEGIN:VEVENT
UID:57980f302994ca6dc70676ea@squarespace.com
DTSTAMP:20160727T013513Z
DTSTART:20161008T140000Z
DTEND:20161017T020000Z
SUMMARY:Artweek Auckland 2016
END:VEVENT
END:VCALENDAR
