BEGIN:VCALENDAR
VERSION:2.0
PRODID:-//Squarespace Inc/Squarespace 6//v6//EN
BEGIN:VEVENT
UID:5803fc4e9de4bb01bc0489c2@squarespace.com
DTSTAMP:20161016T221827Z
DTSTART:20161110T233000Z
DTEND:20161204T003000Z
SUMMARY:Perplex
END:VEVENT
END:VCALENDAR
