BEGIN:VCALENDAR
VERSION:2.0
PRODID:-//Squarespace Inc/Squarespace 6//v6//EN
BEGIN:VEVENT
UID:57d62bf315d5db80eae674a8@squarespace.com
DTSTAMP:20160912T042252Z
DTSTART:20161117T000000Z
DTEND:20161210T203000Z
SUMMARY:Hudson & Halls Live!
END:VEVENT
END:VCALENDAR
