BEGIN:VCALENDAR
VERSION:2.0
PRODID:-//Squarespace Inc/Squarespace 6//v6//EN
BEGIN:VEVENT
UID:5803fbc3e58c625ab6dfcf4e@squarespace.com
DTSTAMP:20161016T221612Z
DTSTART:20161119T233000Z
DTEND:20161127T003000Z
SUMMARY:The Beautiful Ones
END:VEVENT
END:VCALENDAR
