BEGIN:VCALENDAR
VERSION:2.0
PRODID:-//Squarespace Inc/Squarespace 6//v6//EN
BEGIN:VEVENT
UID:57cf40d0f7e0abcd49158b53@squarespace.com
DTSTAMP:20160906T222128Z
DTSTART:20161103T000000Z
DTEND:20161113T020000Z
SUMMARY:Heath Franklin's Chopper - Live from Anzakistan
END:VEVENT
END:VCALENDAR
