BEGIN:VCALENDAR
VERSION:2.0
PRODID:-//Squarespace Inc/Squarespace 6//v6//EN
BEGIN:VEVENT
UID:57fbf7906b8f5b6243ad7c27@squarespace.com
DTSTAMP:20161011T000254Z
DTSTART:20161213T213000Z
DTEND:20161217T223000Z
SUMMARY:Mia Blonde in Ice Dagger
END:VEVENT
END:VCALENDAR
