BEGIN:VCALENDAR
VERSION:2.0
PRODID:-//Squarespace Inc/Squarespace 6//v6//EN
BEGIN:VEVENT
UID:583c9b9020099e25d0b41544@squarespace.com
DTSTAMP:20161128T210503Z
DTSTART:20161206T213000Z
DTEND:20161206T223000Z
SUMMARY:2016 EVANZ Venue Awards
END:VEVENT
END:VCALENDAR
