BEGIN:VCALENDAR
VERSION:2.0
PRODID:-//Squarespace Inc/Squarespace 6//v6//EN
BEGIN:VEVENT
UID:57980989414fb57043afee6f@squarespace.com
DTSTAMP:20160727T011324Z
DTSTART:20160824T013000Z
DTEND:20160911T023000Z
SUMMARY:Sister Anzac
END:VEVENT
END:VCALENDAR
