BEGIN:VCALENDAR
VERSION:2.0
PRODID:-//Squarespace Inc/Squarespace 6//v6//EN
BEGIN:VEVENT
UID:57980b13d1758e363addec44@squarespace.com
DTSTAMP:20160727T011805Z
DTSTART:20160925T233000Z
DTEND:20160928T003000Z
SUMMARY:NZTrio Loft Series 2016 Concert #2: GLOW
END:VEVENT
END:VCALENDAR
