BEGIN:VCALENDAR
VERSION:2.0
PRODID:-//Squarespace Inc/Squarespace 6//v6//EN
BEGIN:VEVENT
UID:57b0e3ddf7e0ab6f35af9cbe@squarespace.com
DTSTAMP:20160814T213702Z
DTSTART:20160928T220000Z
DTEND:20161004T020000Z
SUMMARY:Auckland Live International Cabaret Season
END:VEVENT
END:VCALENDAR
