BEGIN:VCALENDAR
VERSION:2.0
PRODID:-//Squarespace Inc/Squarespace 6//v6//EN
BEGIN:VEVENT
UID:57b264031b631b852a2489d6@squarespace.com
DTSTAMP:20160816T005617Z
DTSTART:20160906T210000Z
DTEND:20160923T030000Z
SUMMARY:Affinity
END:VEVENT
END:VCALENDAR
