BEGIN:VCALENDAR
VERSION:2.0
PRODID:-//Squarespace Inc/Squarespace 6//v6//EN
BEGIN:VEVENT
UID:57b2586544024312ebcf6dab@squarespace.com
DTSTAMP:20160816T000605Z
DTSTART:20160909T000000Z
DTEND:20160925T000000Z
SUMMARY:Boys Will Be Boys
END:VEVENT
END:VCALENDAR
