BEGIN:VCALENDAR
VERSION:2.0
PRODID:-//Squarespace Inc/Squarespace 6//v6//EN
BEGIN:VEVENT
UID:59d176b7e45a7c855f7697a2@squarespace.com
DTSTAMP:20171001T231618Z
DTSTART:20171001T233000Z
DTEND:20171002T003000Z
SUMMARY:Dirt and Other Delicious Ingredients
END:VEVENT
END:VCALENDAR
