BEGIN:VCALENDAR
VERSION:2.0
PRODID:-//Squarespace Inc/Squarespace 6//v6//EN
BEGIN:VEVENT
UID:59d1812b2278e7778568c136@squarespace.com
DTSTAMP:20171001T235957Z
DTSTART:20171002T000000Z
DTEND:20171101T010000Z
SUMMARY:Mocktober at The Classic
END:VEVENT
END:VCALENDAR
