BEGIN:VCALENDAR
VERSION:2.0
PRODID:-//Squarespace Inc/Squarespace 6//v6//EN
BEGIN:VEVENT
UID:59d17590f43b5501b2f0ab26@squarespace.com
DTSTAMP:20171002T000535Z
DTSTART:20171014T233000Z
DTEND:20171022T003000Z
SUMMARY:The Vultures
END:VEVENT
END:VCALENDAR
