BEGIN:VCALENDAR
VERSION:2.0
PRODID:-//Squarespace Inc/Squarespace 6//v6//EN
BEGIN:VEVENT
UID:59d172a36f4ca3b20875cff5@squarespace.com
DTSTAMP:20171001T225807Z
DTSTART:20171024T230000Z
DTEND:20171101T000000Z
SUMMARY:The Dunstan Creek Haunting
END:VEVENT
END:VCALENDAR
