BEGIN:VCALENDAR
VERSION:2.0
PRODID:-//Squarespace Inc/Squarespace 6//v6//EN
BEGIN:VEVENT
UID:59d1774bccc5c5f5dcd8355e@squarespace.com
DTSTAMP:20171001T232101Z
DTSTART:20171025T233000Z
DTEND:20171105T003000Z
SUMMARY:Te Po
END:VEVENT
END:VCALENDAR
