BEGIN:VCALENDAR
VERSION:2.0
PRODID:-//Squarespace Inc/Squarespace 6//v6//EN
BEGIN:VEVENT
UID:59d181facd0f6847b8f9b9af@squarespace.com
DTSTAMP:20171002T000316Z
DTSTART:20171029T003000Z
DTEND:20171029T013000Z
SUMMARY:Halloween in the Village 
END:VEVENT
END:VCALENDAR
