BEGIN:VCALENDAR
VERSION:2.0
PRODID:-//Squarespace Inc/Squarespace 6//v6//EN
BEGIN:VEVENT
UID:59dc147146c3c48d6777949c@squarespace.com
DTSTAMP:20171010T004758Z
DTSTART:20171030T000000Z
DTEND:20171031T010000Z
SUMMARY:Love Me Tinder
GEO:-36.858685;174.731024
LOCATION:Freida Margolis\, 440 Richmond Road\, Auckland\, Auckland\, 1021\, 
 New Zealand
END:VEVENT
END:VCALENDAR
