BEGIN:VCALENDAR
VERSION:2.0
PRODID:-//Squarespace Inc/Squarespace 6//v6//EN
BEGIN:VEVENT
UID:59d1730a18b27d348c67e298@squarespace.com
DTSTAMP:20171001T225934Z
DTSTART:20171004T230000Z
DTEND:20171008T000000Z
SUMMARY:Hamlet: The Video Game (The Stage Show)
END:VEVENT
END:VCALENDAR
