BEGIN:VCALENDAR
VERSION:2.0
PRODID:-//Squarespace Inc/Squarespace 6//v6//EN
BEGIN:VEVENT
UID:59cac5e1cf81e0d666425c47@squarespace.com
DTSTAMP:20170926T213222Z
DTSTART:20171004T213000Z
DTEND:20171015T223000Z
SUMMARY:TEMPO DANCE FESTIVAL 2017
END:VEVENT
END:VCALENDAR
