BEGIN:VCALENDAR
VERSION:2.0
PRODID:-//Squarespace Inc/Squarespace 6//v6//EN
BEGIN:VEVENT
UID:59d173b2a803bb8ab836b159@squarespace.com
DTSTAMP:20171001T230337Z
DTSTART:20171007T233000Z
DTEND:20171016T003000Z
SUMMARY:Artweek Auckland
END:VEVENT
END:VCALENDAR
