BEGIN:VCALENDAR
VERSION:2.0
PRODID:-//Squarespace Inc/Squarespace 6//v6//EN
BEGIN:VEVENT
UID:59dc18f2c027d89dcc0eaa68@squarespace.com
DTSTAMP:20171010T005538Z
DTSTART:20171103T000000Z
DTEND:20171105T010000Z
SUMMARY:Love Me Tinder
GEO:-36.85377;174.762966
LOCATION:The Classic Comedy Club\, 321 Queen Street\, Auckland\, Auckland\, 
 1010\, New Zealand
END:VEVENT
END:VCALENDAR
