BEGIN:VCALENDAR
VERSION:2.0
PRODID:-//Squarespace Inc/Squarespace 6//v6//EN
BEGIN:VEVENT
UID:599a3b6437c581a0f21b284c@squarespace.com
DTSTAMP:20170821T014753Z
DTSTART:20171126T180000Z
DTEND:20171126T193000Z
SUMMARY:Farmers Santa Parade 2017 
END:VEVENT
END:VCALENDAR
