BEGIN:VCALENDAR
VERSION:2.0
PRODID:-//Squarespace Inc/Squarespace 6//v6//EN
BEGIN:VEVENT
UID:5a0367bf24a69487b3634e6f@squarespace.com
DTSTAMP:20171108T202840Z
DTSTART:20171127T203000Z
DTEND:20171202T213000Z
SUMMARY:Puāwai Festival 
END:VEVENT
END:VCALENDAR
