BEGIN:VCALENDAR
VERSION:2.0
PRODID:-//Squarespace Inc/Squarespace 6//v6//EN
BEGIN:VEVENT
UID:59d17516f7e0abd6c51f1947@squarespace.com
DTSTAMP:20171001T230855Z
DTSTART:20171104T233000Z
DTEND:20171105T003000Z
SUMMARY:STAIRWAY TO HEAVEN: Led Zeppelin Masters
END:VEVENT
END:VCALENDAR
