BEGIN:VCALENDAR
VERSION:2.0
PRODID:-//Squarespace Inc/Squarespace 6//v6//EN
BEGIN:VEVENT
UID:59d175f34c0dbf75795e702c@squarespace.com
DTSTAMP:20171001T231350Z
DTSTART:20171110T003000Z
DTEND:20171126T013000Z
SUMMARY:Body Double
END:VEVENT
END:VCALENDAR
