BEGIN:VCALENDAR
VERSION:2.0
PRODID:-//Squarespace Inc/Squarespace 6//v6//EN
BEGIN:VEVENT
UID:583c90f8ebbd1ac168e89506@squarespace.com
DTSTAMP:20161128T202002Z
DTSTART:20170418T193000Z
DTEND:20170422T203000Z
SUMMARY:The 13-Storey Treehouse
END:VEVENT
END:VCALENDAR
