BEGIN:VCALENDAR
VERSION:2.0
PRODID:-//Squarespace Inc/Squarespace 6//v6//EN
BEGIN:VEVENT
UID:58b8a2c146c3c4543ab5a241@squarespace.com
DTSTAMP:20170302T225838Z
DTSTART:20170427T230000Z
DTEND:20170522T030000Z
SUMMARY:2017 International Comedy Festival 
END:VEVENT
END:VCALENDAR
