BEGIN:VCALENDAR
VERSION:2.0
PRODID:-//Squarespace Inc/Squarespace 6//v6//EN
BEGIN:VEVENT
UID:589bd0291b631bc1bbd8143a@squarespace.com
DTSTAMP:20170209T022116Z
DTSTART:20170428T000000Z
DTEND:20170430T000000Z
SUMMARY:Flick Electric Co. comedy Gala
END:VEVENT
END:VCALENDAR
