BEGIN:VCALENDAR
VERSION:2.0
PRODID:-//Squarespace Inc/Squarespace 6//v6//EN
BEGIN:VEVENT
UID:58c0822a725e25f24c024369@squarespace.com
DTSTAMP:20170308T222100Z
DTSTART:20170404T223000Z
DTEND:20170415T233000Z
SUMMARY:Weave
END:VEVENT
END:VCALENDAR
