BEGIN:VCALENDAR
VERSION:2.0
PRODID:-//Squarespace Inc/Squarespace 6//v6//EN
BEGIN:VEVENT
UID:58b89ef329687fbe30a197fd@squarespace.com
DTSTAMP:20170302T224135Z
DTSTART:20170503T000000Z
DTEND:20170626T020000Z
SUMMARY:Urzila Carlson - Studies Have Shown 
END:VEVENT
END:VCALENDAR
