BEGIN:VCALENDAR
VERSION:2.0
PRODID:-//Squarespace Inc/Squarespace 6//v6//EN
BEGIN:VEVENT
UID:58ec03fb37c5812ad830030c@squarespace.com
DTSTAMP:20170410T221957Z
DTSTART:20170521T230000Z
DTEND:20171115T030000Z
SUMMARY:NZ Trio Loft Series 
END:VEVENT
END:VCALENDAR
