BEGIN:VCALENDAR
VERSION:2.0
PRODID:-//Squarespace Inc/Squarespace 6//v6//EN
BEGIN:VEVENT
UID:58b884d41b10e3d351d95a81@squarespace.com
DTSTAMP:20170302T205309Z
DTSTART:20170504T230000Z
DTEND:20170910T020000Z
SUMMARY:The Pickle King
END:VEVENT
END:VCALENDAR
