BEGIN:VCALENDAR
VERSION:2.0
PRODID:-//Squarespace Inc/Squarespace 6//v6//EN
BEGIN:VEVENT
UID:5919072be58c620d716c4d69@squarespace.com
DTSTAMP:20170515T014327Z
DTSTART:20170614T000000Z
DTEND:20170618T030000Z
SUMMARY:Ultimate Eagles 
END:VEVENT
END:VCALENDAR
