BEGIN:VCALENDAR
VERSION:2.0
PRODID:-//Squarespace Inc/Squarespace 6//v6//EN
BEGIN:VEVENT
UID:58ec0533ebbd1a18bdba77bc@squarespace.com
DTSTAMP:20170410T222328Z
DTSTART:20170602T213000Z
DTEND:20170625T003000Z
SUMMARY:Kia Mau Festival
END:VEVENT
END:VCALENDAR
