BEGIN:VCALENDAR
VERSION:2.0
PRODID:-//Squarespace Inc/Squarespace 6//v6//EN
BEGIN:VEVENT
UID:5753e540ab48de69e5191e0d@squarespace.com
DTSTAMP:20160605T084133Z
DTSTART:20170630T233000Z
DTEND:20170703T003000Z
SUMMARY:Russell Howard - Round The World
END:VEVENT
END:VCALENDAR
