BEGIN:VCALENDAR
VERSION:2.0
PRODID:-//Squarespace Inc/Squarespace 6//v6//EN
BEGIN:VEVENT
UID:59190425e6f2e16ac858f7e1@squarespace.com
DTSTAMP:20170515T013020Z
DTSTART:20170607T000000Z
DTEND:20170618T020000Z
SUMMARY:Jingles - The Musical 
END:VEVENT
END:VCALENDAR
