BEGIN:VCALENDAR
VERSION:2.0
PRODID:-//Squarespace Inc/Squarespace 6//v6//EN
BEGIN:VEVENT
UID:58ec158e37c5812ad83602b4@squarespace.com
DTSTAMP:20170410T233429Z
DTSTART:20170609T230000Z
DTEND:20170625T020000Z
SUMMARY:Kororāreka: The Ballad of Maggie Flynn
END:VEVENT
END:VCALENDAR
