BEGIN:VCALENDAR
VERSION:2.0
PRODID:-//Squarespace Inc/Squarespace 6//v6//EN
BEGIN:VEVENT
UID:58ebffec2994cac6df94c7d5@squarespace.com
DTSTAMP:20170410T220021Z
DTSTART:20170610T000000Z
DTEND:20170611T030000Z
SUMMARY:MAMIL (Middle Aged Men In Lycra)
END:VEVENT
END:VCALENDAR
