BEGIN:VCALENDAR
VERSION:2.0
PRODID:-//Squarespace Inc/Squarespace 6//v6//EN
BEGIN:VEVENT
UID:5922598e9de4bbb44890a56a@squarespace.com
DTSTAMP:20170522T032427Z
DTSTART:20170713T150000Z
DTEND:20170715T160000Z
SUMMARY:The Road That Wasn’t There
END:VEVENT
END:VCALENDAR
