BEGIN:VCALENDAR
VERSION:2.0
PRODID:-//Squarespace Inc/Squarespace 6//v6//EN
BEGIN:VEVENT
UID:59190235e6f2e16ac858e178@squarespace.com
DTSTAMP:20170515T012313Z
DTSTART:20170718T140000Z
DTEND:20170722T170000Z
SUMMARY:The Very Hungry Caterpillar 
END:VEVENT
END:VCALENDAR
