BEGIN:VCALENDAR
VERSION:2.0
PRODID:-//Squarespace Inc/Squarespace 6//v6//EN
BEGIN:VEVENT
UID:596e920ad482e9ec36a407f8@squarespace.com
DTSTAMP:20170718T225722Z
DTSTART:20170720T230000Z
DTEND:20170813T000000Z
SUMMARY:COCK
END:VEVENT
END:VCALENDAR
