BEGIN:VCALENDAR
VERSION:2.0
PRODID:-//Squarespace Inc/Squarespace 6//v6//EN
BEGIN:VEVENT
UID:5919063febbd1a2575110395@squarespace.com
DTSTAMP:20170515T013935Z
DTSTART:20170723T000000Z
DTEND:20170728T030000Z
SUMMARY:Simon & Garfunkel Story 
END:VEVENT
END:VCALENDAR
